BEGIN:VCALENDAR
VERSION:2.0
PRODID:-//Alumni ULL - ECPv6.10.1.1//NONSGML v1.0//EN
CALSCALE:GREGORIAN
METHOD:PUBLISH
X-ORIGINAL-URL:https://www.alumniull.es
X-WR-CALDESC:Eventos para Alumni ULL
REFRESH-INTERVAL;VALUE=DURATION:PT1H
X-Robots-Tag:noindex
X-PUBLISHED-TTL:PT1H
BEGIN:VTIMEZONE
TZID:Europe/London
BEGIN:DAYLIGHT
TZOFFSETFROM:+0000
TZOFFSETTO:+0100
TZNAME:BST
DTSTART:20260329T010000
END:DAYLIGHT
BEGIN:STANDARD
TZOFFSETFROM:+0100
TZOFFSETTO:+0000
TZNAME:GMT
DTSTART:20261025T010000
END:STANDARD
END:VTIMEZONE
BEGIN:VEVENT
DTSTART;TZID=Europe/London:20260417T100000
DTEND;TZID=Europe/London:20260417T113000
DTSTAMP:20260422T183206
CREATED:20260324T130907Z
LAST-MODIFIED:20260417T080013Z
UID:10000128-1776420000-1776425400@www.alumniull.es
SUMMARY:Visita guiada al Instituto de Productos Naturales y Agrobiología del CSIC
DESCRIPTION:Alumni ULL\, en colaboración del Consejo Social de la Universidad de La Laguna y Fundación CajaCanarias\, organiza una visita guiada al Instituto de Productos Naturales y Agrobiología (IPNA)\, centro perteneciente al Consejo Superior de Investigaciones Científicas (CSIC)\, dirigida a las personas asociadas de Alumni ULL. Esta iniciativa tiene como objetivo acercar la investigación científica que se desarrolla en Canarias y poner en valor su impacto en nuestro entorno. \nLa actividad se celebrará el viernes 17 de abril de 2026\, a las 10:00 horas\, en las instalaciones del IPNA-CSIC\, con una duración estimada de 90 minutos. \nLa visita comenzará con una recepción en el salón de actos\, donde la Dra. Inés Pérez Martín\, vicedirectora 2ª del Instituto de Productos Naturales y Agrobiología del CSIC y científica titular del Grupo de Síntesis de Productos Naturales\, ofrecerá una presentación sobre el IPNA y el CSIC. En ella compartirá información general sobre su estructura\, líneas estratégicas y principales áreas de actividad investigadora. \nA continuación\, se realizará un recorrido por las instalaciones del centro\, en el que personal investigador de distintas áreas del conocimiento mostrará sus laboratorios y explicará los proyectos de investigación actualmente en desarrollo\, permitiendo conocer de primera mano el trabajo científico que se impulsa desde este instituto. \n¡Una oportunidad única para adentrarse en la actividad del IPNA y conocer el trabajo investigador que impulsa este centro! \n\nFecha: 17 de abril de 2026.\nHora: 10:00 h.\nLugar: Instituto de Productos Naturales y Agrobiología (IPNA-CSIC). Av. Astrofísico Francisco Sánchez\, 3\, 38206 La Laguna\, Santa Cruz de Tenerife.\nDuración: 90 minutos.\nAcompañados por la: Dra. Inés Pérez Martín\, vicedirectora 2ª del Instituto de Productos Naturales y Agrobiología del CSIC y científica titular del Grupo de Síntesis de Productos Naturales.\nColaboran: Consejo Social de la Universidad de La Laguna y Fundación CajaCanarias.\nActividad dirigida a socios/as de Alumni ULL.\nCoste de la actividad: Actividad Gratuita (requiere inscripción previa). ¡Plazas limitadas!\nObservaciones: No incluye transporte.
URL:https://www.alumniull.es/evento/csic/
LOCATION:Santa Cruz de Tenerife
CATEGORIES:Actividades,Noticias
ATTACH;FMTTYPE=image/jpeg:https://www.alumniull.es/wp-content/uploads/2026/03/20260417-Visita-guiada-al-Instituto-de-Productos-Naturales-y-Agrobiologia-CSIC-1.jpg
ORGANIZER;CN="Alumni ULL":MAILTO:alumni@ull.edu.es
END:VEVENT
BEGIN:VEVENT
DTSTART;TZID=Europe/London:20260417T190000
DTEND;TZID=Europe/London:20260417T203000
DTSTAMP:20260422T183206
CREATED:20260318T090258Z
LAST-MODIFIED:20260407T110734Z
UID:10000127-1776452400-1776457800@www.alumniull.es
SUMMARY:XXI Jornadas "Prof. Francisco Valladares"
DESCRIPTION:Las XXI Jornadas Musicales “Prof. Francisco Valladares”\, organizadas por la Facultad de Ciencias de la Salud de la Universidad de La Laguna\, se presentan como un encuentro dedicado a celebrar y compartir el talento artístico musical de la comunidad de la Facultad. \nLa cita tendrá lugar el 17 de abril\, a las 19:00 h\, en el Aula Magna del Campus de Ciencias de la Salud de la Universidad de La Laguna. \nEsta nueva edición ofrecerá una jornada en la que la música y la creatividad serán protagonistas\, en un ambiente que pone en valor la dimensión cultural y artística de la comunidad universitaria. \nUna oportunidad para disfrutar del talento musical y de un evento ya consolidado dentro de su calendario cultural. \nCon el respaldo del Vicerrectorado de Cultura y Extensión Universitaria de la Universidad de La Laguna\, la Delegación de Alumnado de la Sección de Medicina de la ULL\, Alumni ULL\, la Fundación CajaCanarias y Cajasiete. \nEntrada libre hasta completar aforo.
URL:https://www.alumniull.es/evento/xxi-jornadas-prof-francisco-valladares/
LOCATION:Santa Cruz de Tenerife
CATEGORIES:Actividades,Noticias
ATTACH;FMTTYPE=image/jpeg:https://www.alumniull.es/wp-content/uploads/2026/03/20260417-XXI-Jornadas-Musicales-1.jpg
END:VEVENT
BEGIN:VEVENT
DTSTART;TZID=Europe/London:20260528T193000
DTEND;TZID=Europe/London:20260528T210000
DTSTAMP:20260422T183206
CREATED:20260422T140114Z
LAST-MODIFIED:20260422T162813Z
UID:10000129-1779996600-1780002000@www.alumniull.es
SUMMARY:Concierto solidario 25 aniversario Alumni ULL
DESCRIPTION:El concierto solidario con motivo del 25 aniversario de Alumni ULL se celebrará el jueves 28 de mayo de 2026 a las 19:30 horas en el Paraninfo de la Universidad de La Laguna. Este acto conmemorativo\, enmarcado en la programación especial con la que Alumni ULL celebra sus 25 años de trayectoria fortaleciendo el vínculo entre la universidad y su comunidad\, reunirá a destacadas agrupaciones musicales vinculadas a la universidad\, como la Camerata Lacunensis\, la Coral Universitaria de La Laguna\, la Banda Sinfónica de la Universidad de La Laguna\, el Coro de Cámara Eunoia y el Cuarteto VOCAL4. \nEl programa ofrece un recorrido musical variado y de gran calidad artística\, en el que la música coral y sinfónica se combinan para brindar una experiencia cultural enriquecedora\, reflejo del talento y la tradición musical universitaria. \nAdemás de su carácter artístico\, el concierto tiene un marcado fin solidario: la recaudación se destinará a Cáritas Diocesana de Tenerife\, permitiendo que la cultura se convierta también en un vehículo de apoyo social. Esta entidad trabaja acompañando a personas en situación de vulnerabilidad\, promoviendo su inclusión social y el acceso a recursos básicos a través de programas de atención\, orientación y apoyo. \nLas entradas tendrán un precio de 10 euros y se habilitará una “fila cero” para quienes deseen colaborar mediante una aportación voluntaria sin necesidad de asistir. \nLa iniciativa cuenta con la colaboración de diversas instituciones y entidades comprometidas con la cultura y la acción social\, consolidando este concierto como un acto significativo tanto para la comunidad universitaria como para la sociedad en general. Entre las entidades colaboradoras se encuentran la Universidad de La Laguna\, Gobierno de Canarias\, Cabildo de Tenerife\, Ayuntamiento de La Laguna (área de cultura)\, Consejo Social de la Universidad de La Laguna\, Fundación CajaCanarias\, Caixabank\, Cajasiete\, Grupo Fedola\, Fundación Disa\, Colegio de Enfermería de Santa Cruz de Tenerife\, Binter y Camerata Lacunensis. \nEntradas: 10 € general y Fila Cero solidaria.\nPara todos los públicos.
URL:https://www.alumniull.es/evento/concierto-solidario-25-aniversario-alumni-ull/
LOCATION:Santa Cruz de Tenerife
CATEGORIES:Actividades,Noticias
ATTACH;FMTTYPE=image/jpeg:https://www.alumniull.es/wp-content/uploads/2026/04/20260528-Concierto-25-aniversario-Alumni-ULL.jpg
ORGANIZER;CN="Alumni ULL":MAILTO:alumni@ull.edu.es
END:VEVENT
END:VCALENDAR