BEGIN:VCALENDAR
VERSION:2.0
PRODID:-//Alumni ULL - ECPv6.10.1.1//NONSGML v1.0//EN
CALSCALE:GREGORIAN
METHOD:PUBLISH
X-WR-CALNAME:Alumni ULL
X-ORIGINAL-URL:https://www.alumniull.es
X-WR-CALDESC:Eventos para Alumni ULL
REFRESH-INTERVAL;VALUE=DURATION:PT1H
X-Robots-Tag:noindex
X-PUBLISHED-TTL:PT1H
BEGIN:VTIMEZONE
TZID:Europe/London
BEGIN:DAYLIGHT
TZOFFSETFROM:+0000
TZOFFSETTO:+0100
TZNAME:BST
DTSTART:20250330T010000
END:DAYLIGHT
BEGIN:STANDARD
TZOFFSETFROM:+0100
TZOFFSETTO:+0000
TZNAME:GMT
DTSTART:20251026T010000
END:STANDARD
END:VTIMEZONE
BEGIN:VEVENT
DTSTART;TZID=Europe/London:20250227T173000
DTEND;TZID=Europe/London:20250227T183000
DTSTAMP:20260420T074544
CREATED:20250221T131131Z
LAST-MODIFIED:20250226T133643Z
UID:10000053-1740677400-1740681000@www.alumniull.es
SUMMARY:Visita Guiada a la Exposición pictórica: ‘Arte Onírico y Mágico. El cuaderno de viaje de Giampaolo Atzeni’
DESCRIPTION:Alumni ULL\, en colaboración con el Consejo Social de la Universidad de La Laguna y Fundación CajaCanarias\, te invita a una visita guiada por la exposición Arte Onírico y Mágico. El cuaderno de viaje de Giampaolo Atzeni. La experiencia estará guiada por el curador Álvaro Ruiz (Profesor Titular de Historia del Arte Contemporáneo de la Universidad de La Laguna. Miembro de ICOM España) y contará con la presencia del propio artista\, quien responderá preguntas y compartirá detalles sobre su proceso creativo. \nGiampaolo Atzeni\, nos trasporta a un universo pictórico donde los sueños\, la ironía y la iconografía se fusionan en una narrativa visual única. Con una trayectoria artística que abarca el teatro\, la fotografía y el diseño\, Atzeni ha consolidado un estilo propio desde los años 90\, caracterizado por un lenguaje pop metafísico. \nSus obras\, de trazos definidos y colores vibrantes\, exploran lo imaginario con referencias a la historia del arte\, el mar y su fauna\, así como elementos oníricos y simbólicos. Su poética visual\, fragmentada y sugerente\, invita al espectador a descubrir\, con cada mirada\, nuevas dimensiones ocultas en sus creaciones. \nAcompañados por el curador Álvaro Ruiz y el propio Atzeni\, los asistentes podrán explorar en profundidad su obra y desvelar los significados de cada pieza. \nDetalles del evento: \n\nFecha: Jueves 27 de febrero de 2025.\nHorario: 17:30 h.\nLugar: Espacio Cultural La Capilla. Edificio Central.\nPlazo de inscripción: Hasta el 26 de febrero de 2025.\nPlazas limitadas – Actividad gratuita con previa inscripción online.\n\n¡Reserva tu plaza ahora!
URL:https://www.alumniull.es/evento/exposicion-giampaolo-atzeni/
LOCATION:Alumni ULL\, Calle Viana\, Nº50\, Planta baja\, La Laguna\, Santa Cruz de Tenerife\, 38201\, España
CATEGORIES:Actividades,Noticias,Visitas Culturales
ATTACH;FMTTYPE=image/jpeg:https://www.alumniull.es/wp-content/uploads/2025/02/20250227-Visita-Guiada-a-la-Exposicion-Pictorica-‘Arte-Onirico-y-Magico.-El-cuaderno-de-viaje-de-Giampaolo-Atzeni-Web.jpg
ORGANIZER;CN="Alumni ULL":MAILTO:alumni@ull.edu.es
END:VEVENT
END:VCALENDAR